BEGIN:VCALENDAR
VERSION:2.0
PRODID:-//Muzeum Archeologiczne w Krakowie - ECPv5.10.0//NONSGML v1.0//EN
CALSCALE:GREGORIAN
METHOD:PUBLISH
X-WR-CALNAME:Muzeum Archeologiczne w Krakowie
X-ORIGINAL-URL:https://ma.krakow.pl
X-WR-CALDESC:Wydarzenia dla Muzeum Archeologiczne w Krakowie
BEGIN:VTIMEZONE
TZID:Europe/Warsaw
BEGIN:DAYLIGHT
TZOFFSETFROM:+0100
TZOFFSETTO:+0200
TZNAME:CEST
DTSTART:20220327T010000
END:DAYLIGHT
BEGIN:STANDARD
TZOFFSETFROM:+0200
TZOFFSETTO:+0100
TZNAME:CET
DTSTART:20221030T010000
END:STANDARD
END:VTIMEZONE
BEGIN:VEVENT
DTSTART;TZID=Europe/Warsaw:20220917T110000
DTEND;TZID=Europe/Warsaw:20220918T170000
DTSTAMP:20260425T130457
CREATED:20220916T113122Z
LAST-MODIFIED:20220916T113133Z
UID:24487-1663412400-1663520400@ma.krakow.pl
SUMMARY:Zajrzyj do Huty
DESCRIPTION:
URL:https://ma.krakow.pl/event/zajrzyj-do-huty/
LOCATION:Oddział w Nowej Hucie-Branicach\, ul. Sasanek 2A\, Kraków\, małopolskie\, 31-985\, Polska
CATEGORIES:Wszystkie wydarzenia
ATTACH;FMTTYPE=image/png:https://ma.krakow.pl/wp-content/uploads/2022/09/Zrzut-ekranu-2022-09-16-o-13.13.08.png
END:VEVENT
END:VCALENDAR