BEGIN:VCALENDAR
VERSION:2.0
PRODID:-//Muzeum Archeologiczne w Krakowie - ECPv5.10.0//NONSGML v1.0//EN
CALSCALE:GREGORIAN
METHOD:PUBLISH
X-WR-CALNAME:Muzeum Archeologiczne w Krakowie
X-ORIGINAL-URL:https://ma.krakow.pl
X-WR-CALDESC:Wydarzenia dla Muzeum Archeologiczne w Krakowie
BEGIN:VTIMEZONE
TZID:Europe/Warsaw
BEGIN:DAYLIGHT
TZOFFSETFROM:+0100
TZOFFSETTO:+0200
TZNAME:CEST
DTSTART:20200329T010000
END:DAYLIGHT
BEGIN:STANDARD
TZOFFSETFROM:+0200
TZOFFSETTO:+0100
TZNAME:CET
DTSTART:20201025T010000
END:STANDARD
END:VTIMEZONE
BEGIN:VEVENT
DTSTART;TZID=Europe/Warsaw:20200831T080000
DTEND;TZID=Europe/Warsaw:20200831T170000
DTSTAMP:20260424T022404
CREATED:20200902T070044Z
LAST-MODIFIED:20200915T081646Z
UID:9163-1598860800-1598893200@ma.krakow.pl
SUMMARY:Zabawy archeologiczne - krzyżówki
DESCRIPTION:Zapraszamy do zabawy     					\n						\n				\n				\n				\n					\n				\n						\n					\n		\n								\n					\n		\n				\n						\n							\n					\n			\n							\n						\n				\n					\n			\n									krzyżówka 10\n									Odpowiedź - krzyżówka 10\n							\n			\n									krzyżówka 10\n					 \n									Odpowiedź - krzyżówka 10\n					 Krzyżówka składa się z ośmiu pytań\, w każdym z nich pierwsza litera jest ważna. Aby rozwiązać hasło\, połącz litery ważne w kolejności\, w jakiej były ułożone pytania.  Inaczej Celtowie (siedem liter) – GALOWIEWybuch wulkanu np. Wezuwiusza (siedem liter) – ERUPCJAW starożytnym Rzymie ustrój poprzedzający cesarstwo (dziewięć liter) – REPUBLIKAOpowiadają o bogach i herosach (cztery litery) – MITYSemickie państwo w północnej Mezopotamii (sześć liter) – ASYRIARzeka płynąca przez Egipt (trzy litery) – NILWładcy państwa Inków (siedem liter) – INKOWIEKamienia\, brązu lub żelaza (pięć liter) – EPOKA\n							\n		\n				\n				\n						\n					\n		\n								\n					\n		\n				\n						\n							\n					\n			\n							\n						\n				\n					\n			\n									Krzyżówka 11\n									odpowiedz\n							\n			\n									Krzyżówka 11\n					 \n									odpowiedz\n					 Krzyżówka składa się z dziewięciu pytań\, w każdym z nich pierwsza litera jest ważna. Aby rozwiązać hasło\, połącz litery ważne w kolejności\, w jakiej były ułożone pytania.  1.     Starożytne greckie polis położone na południu Peloponezu (sześć liter) – SPARTA 2.     Starożytne państwo na wyżynie armeńskiej (sześć liter) – URARTU 3.     Stolica Egiptu w czasach Starego Państwa (sześć liter) – MEMFIS 4.     Legendarny uciekinier z Troi (sześć liter) – ENEASZ 5.     Pozostałości po starej budowli (pięć liter) – RUINY 6.     Celtycka osada obronna (siedem liter) – OPPIDUM 7.     Złupili Rzym w 455 r. n.e. (dziesięć liter) – WANDALOWIE 8.     Architekt\, twórca piramidy schodkowej w Sakkarze\, uznany później za boga (siedem  liter) – IMHOTEP 9.     Rzeka płynąca przez Mezopotamię (sześć liter) – EUFRAT
URL:https://ma.krakow.pl/event/zabawy-archeologiczne/
LOCATION:Muzeum Archeologiczne w Krakowie\, Senacka 3\, Kraków\, małopolskie\, 31-002;\, Polska
CATEGORIES:Warsztaty
END:VEVENT
END:VCALENDAR