BEGIN:VCALENDAR
VERSION:2.0
PRODID:-//Muzeum Archeologiczne w Krakowie - ECPv5.10.0//NONSGML v1.0//EN
CALSCALE:GREGORIAN
METHOD:PUBLISH
X-WR-CALNAME:Muzeum Archeologiczne w Krakowie
X-ORIGINAL-URL:https://ma.krakow.pl
X-WR-CALDESC:Wydarzenia dla Muzeum Archeologiczne w Krakowie
BEGIN:VTIMEZONE
TZID:Europe/Warsaw
BEGIN:DAYLIGHT
TZOFFSETFROM:+0100
TZOFFSETTO:+0200
TZNAME:CEST
DTSTART:20240331T010000
END:DAYLIGHT
BEGIN:STANDARD
TZOFFSETFROM:+0200
TZOFFSETTO:+0100
TZNAME:CET
DTSTART:20241027T010000
END:STANDARD
END:VTIMEZONE
BEGIN:VEVENT
DTSTART;TZID=Europe/Warsaw:20240510T120000
DTEND;TZID=Europe/Warsaw:20240510T150000
DTSTAMP:20260421T121123
CREATED:20240426T115030Z
LAST-MODIFIED:20240510T095726Z
UID:33438-1715342400-1715353200@ma.krakow.pl
SUMMARY:Z przewodnikiem po pradziejach Małopolski
DESCRIPTION:Dni Otwartych Funduszy Europejskich 2024 \n\n„Z przewodnikiem po pradziejach Małopolski”\, czyli oprowadzanie po wystawie „Pradzieje i średniowiecze Małopolski” w Muzeum Archeologicznym w Krakowie.\n\nPodczas oprowadzania zaprezentujemy efekty dwóch zrealizowanych projektów z Funduszy Europejskich:\n\n 	Pokażemy jak korzystać z portalu ARCHEOATLAS\, który oferuje możliwości wirtualnych wycieczek po Małopolsce z prezentacją niemal 400 stanowisk archeologicznych na terenie Małopolski wraz z prezentacją odkrytych na nich i zdigitalizowanych zabytków https://archeologicznyatlas.pl\n 	Oprowadzimy po nowej odsłonie wystawy „Pradzieje i średniowiecze Małopolski”\, która jest dostępna od 2 kwietnia na nowych przestrzeniach powstałych na dawnym strychu gmachu głównego Muzeum dzięki Funduszom Unijnym. Część wystawy jest dostosowana do potrzeb osób z niepełnosprawnościami (ścieżki naprowadzające\, elementy dotykowe\, opisy w języku Braille’a). https://ma.krakow.pl/nowa-odslona-wystawy-pradzieje-i-sredniowiecze-malopolski/\n\n \n\n10 maja 2024 (piątek)\n\ng.12:00 (zbiórka 11:55 przy kasie)\n\nMuzeum Archeologiczne w Krakowie ul. Senacka 3\n\n \n\n10 maja 2024\n\ng.14:00 (zbiórka 13:55 przy kasie)\n\nMuzeum Archeologiczne w Krakowie ul. Senacka 3\n\n \n\nPodczas wydarzenia odbędą się konkursy i zagadki związane z prezentowanymi projektami i nową wystawą z licznymi nagrodami.\n\n \n\nZapraszamy dzieci i dorosłych!\n\n \n\nPytania prosimy kierować na adres rezerwacjegrupy@ma.krakow.pl lub tel. (12) 422 71 00\, w. 3 (w godzinach 9-15)\n\n 					\n						\n				\n						\n					\n		\n								\n					\n		\n				\n						\n							\n					\n			\n							\n						\n				\n					\n			\n											\n												\n													\n												Poprzednie\n					\n					\n												Następne
URL:https://ma.krakow.pl/event/z-przewodnikiem-po-pradziejach-malopolski-2/
LOCATION:Gmach główny Muzeum Archeologiczne w Krakwie\, Senacka 3\, Kraków\, małopolskie\, 31-002\, Poland
CATEGORIES:Wszystkie wydarzenia
ATTACH;FMTTYPE=image/jpeg:https://ma.krakow.pl/wp-content/uploads/2024/04/logo-wydarzenia.jpg
END:VEVENT
END:VCALENDAR