BEGIN:VCALENDAR
VERSION:2.0
PRODID:-//Muzeum Archeologiczne w Krakowie - ECPv5.10.0//NONSGML v1.0//EN
CALSCALE:GREGORIAN
METHOD:PUBLISH
X-WR-CALNAME:Muzeum Archeologiczne w Krakowie
X-ORIGINAL-URL:https://ma.krakow.pl
X-WR-CALDESC:Wydarzenia dla Muzeum Archeologiczne w Krakowie
BEGIN:VTIMEZONE
TZID:Europe/Warsaw
BEGIN:DAYLIGHT
TZOFFSETFROM:+0100
TZOFFSETTO:+0200
TZNAME:CEST
DTSTART:20240331T010000
END:DAYLIGHT
BEGIN:STANDARD
TZOFFSETFROM:+0200
TZOFFSETTO:+0100
TZNAME:CET
DTSTART:20241027T010000
END:STANDARD
END:VTIMEZONE
BEGIN:VEVENT
DTSTART;TZID=Europe/Warsaw:20241102T110000
DTEND;TZID=Europe/Warsaw:20241102T120000
DTSTAMP:20260422T061151
CREATED:20241023T093843Z
LAST-MODIFIED:20241023T093936Z
UID:36079-1730545200-1730548800@ma.krakow.pl
SUMMARY:Z bobasem w muzeum
DESCRIPTION:Drodzy przyszli i obecni rodzice maluszków\, mamy dla Was coś super! \nPrzybywajcie na ekscytującą wyprawę po wystawie „Pradzieje i średniowiecze Małopolski”. \nNasz przewodnik poprowadzi Was przez tajemnicze zakamarki historii\, pokazując świat\, który był tutaj\, zanim nadszedł czas dla nas. Będzie to niezapomniana przygoda dla Was i Waszych maluchów w wieku 0-2 lat. \nCzekamy na Was! \n\n\n\n\n\n\n\n\n\n\n\n\n\n\n\n\n\n\nrezerwacjegrupy@ma.krakow.pl  lub   tel. (12) 422 71 00\, wew. 3  (w godzinach 9-15) \n\n2 listopada\, godz. 11:00\n7 grudnia\, godz. 11:00\n\nCena: 12 zł/os. (dzieci do 7 lat za darmo) \n\n\n\n\n\n\n\n\n\n\n\n\n\n\n\n\n\n\nInformacje dodatkowe: \nSpotkanie z historią Małopolski potrwa około godzinę. Podczas tej niesamowitej podróży w czasie\, od epoki kamienia aż do średniowiecza\, odkryjemy tajemnice naszego regionu. \nWygodne ławki rozlokowane na terenie wystawy umożliwią chwilę wytchnienia podczas zwiedzania. Można zwiedzać z dzieckiem w chuście lub w wózku\, z możliwością dostania się na ekspozycję windą. \nDodatkowo\, dla najmłodszych zwiedzających\, przygotowaliśmy specjalny pokój do karmienia z mikrofalówką\, w której można podgrzać mleko  \n\n\n 
URL:https://ma.krakow.pl/event/z-bobasem-w-muzeum-2-2/
LOCATION:Gmach główny Muzeum Archeologiczne w Krakwie\, Senacka 3\, Kraków\, małopolskie\, 31-002\, Poland
CATEGORIES:Wszystkie wydarzenia
ATTACH;FMTTYPE=image/png:https://ma.krakow.pl/wp-content/uploads/2024/07/Bobas-w-Muzeum-banner.png
END:VEVENT
END:VCALENDAR