BEGIN:VCALENDAR
VERSION:2.0
PRODID:-//Muzeum Archeologiczne w Krakowie - ECPv5.10.0//NONSGML v1.0//EN
CALSCALE:GREGORIAN
METHOD:PUBLISH
X-WR-CALNAME:Muzeum Archeologiczne w Krakowie
X-ORIGINAL-URL:https://ma.krakow.pl
X-WR-CALDESC:Wydarzenia dla Muzeum Archeologiczne w Krakowie
BEGIN:VTIMEZONE
TZID:Europe/Warsaw
BEGIN:DAYLIGHT
TZOFFSETFROM:+0100
TZOFFSETTO:+0200
TZNAME:CEST
DTSTART:20200329T010000
END:DAYLIGHT
BEGIN:STANDARD
TZOFFSETFROM:+0200
TZOFFSETTO:+0100
TZNAME:CET
DTSTART:20201025T010000
END:STANDARD
END:VTIMEZONE
BEGIN:VEVENT
DTSTART;VALUE=DATE:20200605
DTEND;VALUE=DATE:20200701
DTSTAMP:20260424T043454
CREATED:20200605T100413Z
LAST-MODIFIED:20200607T202221Z
UID:8657-1591315200-1593561599@ma.krakow.pl
SUMMARY:Wystawa „Pompeje. Życie i śmierć w cieniu Wezuwiusza“ w finale Plebiscytu Wydarzenie Historyczne Roku 2019!
DESCRIPTION:„Pompeje. Życie i śmierć w cieniu Wezuwiusza“ – wystawa czasowa prezentowana w Muzeum Archeologicznym w Krakowie (05.10.2019-08.03.2020) znalazła się w finałowej piątce 13. edycji Plebiscytu Wydarzenie Historyczne Roku\, w kategorii „Wystawa“. \nTeraz wszystko w Państwa rękach J \nProjekt\, który otrzyma największą liczbę punktów w głosowaniu internetowym (II etap Plebiscytu) otrzyma tytuł „Wydarzenie Historyczne Roku 2019” (w swojej kategorii). Głosowanie trwa do 30 czerwca 2020 r.\, za pośrednictwem strony organizatora plebiscytu –  Muzeum Historii Polski. \n  \nAby zagłosować na naszą wystawę\, należy wejść na stronę www.whr.muzhp.pl\, w zakładce „zagłosuj“\, oddać głos na jedno wydarzenie z każdej z trzech kategorii: „Wydarzenie”\, „Wystawa” oraz „Edukacja i multimedia”. Przed oddaniem głosu należy zaakceptować regulamin Plebiscytu. \nW kategorii „Wystawa” zachęcamy do oddania głosu na „Pompeje. Życie i śmierć w cieniu Wezuwiusza” J \nhttp://ma.krakow.pl/tour/pompeje/ \n  \nGłosowanie na: www.whr.muzhp.pl \n  \nPlebiscyt cieszy się prestiżem i zainteresowaniem mediów. W tym roku zostało zgłoszonych blisko dwieście projektów\, z kraju i zagranicy\, z takich krajów\, jak: Anglia\, Austria\, Argentyna\, Australia\, Białoruś\, Francja\, Kanada\, Litwa\, Niemcy\, Ukraina\, Węgry\, Włochy. Najwięcej projektów zgłoszono w kategorii „Wydarzenie”. \nPlebiscyt angażuje wiele środowisk lokalnych\, które chcą wypromować organizowane przez siebie przedsięwzięcia. Od początku istnienia Plebiscytu zgłoszono ponad 1000 wydarzeń\, a w internetowym głosowaniu wzięło dotąd udział  blisko 50 tys. internautów. \n  \nPlebiscyt został objęty Honorowym Patronatem Ministra Kultury i Dziedzictwa Narodowego. \nOrganizator: Muzeum Historii Polski w Warszawie (www.whr.muzhp.pl) \nPartnerzy: historia.org.pl\, Muzeum Łazienki Królewskie w Warszawie \nDarczyńca: Fundacja Orlen \nPatroni medialni: Polskie Radio\, Polska Agencja Prasowa\, dzieje.pl\, Telewizja Polska\, TVP Historia\, Sieci\, wSieci Historii. (informacje ze strony organizatora)
URL:https://ma.krakow.pl/event/wystawa-pompeje-zycie-i-smierc-w-cieniu-wezuwiusza-w-finale-plebiscytu-wydarzenie-historyczne-roku-2019/
ATTACH;FMTTYPE=image/png:https://ma.krakow.pl/wp-content/uploads/2020/06/Pompeje_w-finale_-Wydarzenie-Historyczne-Roku.png
END:VEVENT
END:VCALENDAR