BEGIN:VCALENDAR
VERSION:2.0
PRODID:-//Muzeum Archeologiczne w Krakowie - ECPv5.10.0//NONSGML v1.0//EN
CALSCALE:GREGORIAN
METHOD:PUBLISH
X-WR-CALNAME:Muzeum Archeologiczne w Krakowie
X-ORIGINAL-URL:https://ma.krakow.pl
X-WR-CALDESC:Wydarzenia dla Muzeum Archeologiczne w Krakowie
BEGIN:VTIMEZONE
TZID:Europe/Warsaw
BEGIN:DAYLIGHT
TZOFFSETFROM:+0100
TZOFFSETTO:+0200
TZNAME:CEST
DTSTART:20240331T010000
END:DAYLIGHT
BEGIN:STANDARD
TZOFFSETFROM:+0200
TZOFFSETTO:+0100
TZNAME:CET
DTSTART:20241027T010000
END:STANDARD
END:VTIMEZONE
BEGIN:VEVENT
DTSTART;TZID=Europe/Warsaw:20240319T170000
DTEND;TZID=Europe/Warsaw:20240319T180000
DTSTAMP:20260420T211544
CREATED:20240103T075826Z
LAST-MODIFIED:20240105T073553Z
UID:31414-1710867600-1710871200@ma.krakow.pl
SUMMARY:Wtorkowe spotkania z zabytkiem (nie tylko dla Seniorów)
DESCRIPTION:Odłamki skał – okruchy pamięci\nCykl prelekcji połączony z pokazem eksponatów.\nStarannie wybrany obiekt wydobyty z muzealnych magazynów lub gablot\, stanie się okazją do omówienia różnych aspektów pradziejów. \n\n19.03. M. Piwko – Skarb Wiślan z ulicy Kanoniczej – problematyka konserwatorska\n\nPozostałe terminy i tematy spotkań: \n\n23.04. D. Stefański – Dziedzictwo neandertalczyka\n21.05. R. Naglik – Archeologiczne biuro rzeczy znalezionych czyli co gubili nasi przodkowie w podróży\n25.06. M. Wawer  – Przez dziurkę od klucza. O starożytnym  ślusarstwie\n24.09. A. Starzycka – Starożytna Marea/Philoxenite – port na styku kultur – najnowsze odkrycia w Marei w Egipcie\n29.10. E. Kubica-Kabacińska – Małopolscy Gryfici – fundatorzy świątyń\, rycerze\, dostojnicy panującego dworu\n26.11. D. Pęcherek – Genetyczna przeszłość Europy a archeologia\n17.12. E. Trela-Kieferling – Trafić w punkt. Rzecz o specjalizacji w epoce kamienia\n\n  \n\n\n\n\n\n\n\n\n\n\n\n\n\n\n\n\n\n\nCena: 3 zł od osoby \nCzas: 60 min. (zajęcia obejmują: wykład i wizytę na wystawie lub prezentację zabytków z magazynów Muzeum ) \nGodz.: 17:00-18:00 \nMiejsce warsztatów: Muzeum Archeologiczne w Krakowie\, ul. Poselska 3
URL:https://ma.krakow.pl/event/wtorkowe-spotkania-z-zabytkiem-nie-tylko-dla-seniorow-3-2-2/
LOCATION:Gmach główny Muzeum Archeologiczne w Krakwie\, Senacka 3\, Kraków\, małopolskie\, 31-002\, Poland
CATEGORIES:Wszystkie wydarzenia
ATTACH;FMTTYPE=image/jpeg:https://ma.krakow.pl/wp-content/uploads/2022/02/wtorkowe_baner2-scaled.jpg
END:VEVENT
END:VCALENDAR