BEGIN:VCALENDAR
VERSION:2.0
PRODID:-//Muzeum Archeologiczne w Krakowie - ECPv5.10.0//NONSGML v1.0//EN
CALSCALE:GREGORIAN
METHOD:PUBLISH
X-WR-CALNAME:Muzeum Archeologiczne w Krakowie
X-ORIGINAL-URL:https://ma.krakow.pl
X-WR-CALDESC:Wydarzenia dla Muzeum Archeologiczne w Krakowie
BEGIN:VTIMEZONE
TZID:Europe/Warsaw
BEGIN:DAYLIGHT
TZOFFSETFROM:+0100
TZOFFSETTO:+0200
TZNAME:CEST
DTSTART:20200329T010000
END:DAYLIGHT
BEGIN:STANDARD
TZOFFSETFROM:+0200
TZOFFSETTO:+0100
TZNAME:CET
DTSTART:20201025T010000
END:STANDARD
END:VTIMEZONE
BEGIN:VEVENT
DTSTART;TZID=Europe/Warsaw:20200218T153000
DTEND;TZID=Europe/Warsaw:20200218T153000
DTSTAMP:20260424T071251
CREATED:20200213T093010Z
LAST-MODIFIED:20200213T093010Z
UID:8047-1582039800-1582039800@ma.krakow.pl
SUMMARY:WTORKOWE SPOTKANIA DLA SENIORÓW pt. MIŁOŚĆ W STAROŻYTNOŚCI
DESCRIPTION:Ostatnie spotkanie z cyklu prezentującego życie w Imperium Rzymskim będzie dotyczyć szeroko rozumianej w starożytnym świecie miłości. Zanim zajrzymy do rzymskiej alkowy\, uczestnicy dowiedzą się\, jak wyglądały rzymskie śluby i jakie były regulacje prawne dotyczące małżeństw. Poznają również starożytny kanon piękna i sposoby zachowania urody. Zebrani usłyszą także o największych rzymskich skandalach obyczajowych\, z homoseksualnymi ekscesami cesarza Heliogabala na czele. Pośród poruszanych kwestii nie zabraknie takich tematów jak prostytucja czy stosunek starożytnych Rzymian do erotyki. Czy ogromna liczba dzieł sztuki o zabarwieniu erotycznym świadczy o zepsuciu Rzymian? – to jedno z wielu pytań\, na które być może uda się odpowiedzieć. Na koniec spotkania uczestnicy udadzą się z przewodnikiem na ekspozycję czasową „Pompeje. Życie i śmierć w cieniu Wezuwiusza”\, gdzie na własnej skórze doświadczą dusznej atmosfery pompejańskiego zamtuza. \nData: 18.02.2020 r.\,\nGodzina: 15:30\,\nCena: 6 zł od osoby. \nRezerwacja:\nTYLKO telefoniczna: 12 422 71 00 wew. 143 \nZAPRASZAMY!
URL:https://ma.krakow.pl/event/wtorkowe-spotkania-dla-seniorow-pt-milosc-w-starozytnosci/
LOCATION:Muzeum Archeologiczne w Krakowie\, Senacka 3\, Kraków\, małopolskie\, 31-002;\, Polska
CATEGORIES:Warsztaty
ATTACH;FMTTYPE=image/jpeg:https://ma.krakow.pl/wp-content/uploads/2020/02/seniorzy_18lutego_2020_baner.jpg
END:VEVENT
END:VCALENDAR