BEGIN:VCALENDAR
VERSION:2.0
PRODID:-//Muzeum Archeologiczne w Krakowie - ECPv5.10.0//NONSGML v1.0//EN
CALSCALE:GREGORIAN
METHOD:PUBLISH
X-WR-CALNAME:Muzeum Archeologiczne w Krakowie
X-ORIGINAL-URL:https://ma.krakow.pl
X-WR-CALDESC:Wydarzenia dla Muzeum Archeologiczne w Krakowie
BEGIN:VTIMEZONE
TZID:Europe/Warsaw
BEGIN:DAYLIGHT
TZOFFSETFROM:+0100
TZOFFSETTO:+0200
TZNAME:CEST
DTSTART:20190331T010000
END:DAYLIGHT
BEGIN:STANDARD
TZOFFSETFROM:+0200
TZOFFSETTO:+0100
TZNAME:CET
DTSTART:20191027T010000
END:STANDARD
END:VTIMEZONE
BEGIN:VEVENT
DTSTART;TZID=Europe/Warsaw:20191217T153000
DTEND;TZID=Europe/Warsaw:20191217T153000
DTSTAMP:20260424T124155
CREATED:20191211T122748Z
LAST-MODIFIED:20191211T122748Z
UID:7817-1576596600-1576596600@ma.krakow.pl
SUMMARY:Wtorkowe Spotkania dla Seniorów pt. MIASTA PEŁNE BOGÓW
DESCRIPTION:W ruinach starożytnych rzymskich miast wciąż możemy znaleźć dowody prywatnej i publicznej pobożności ich mieszkańców. U szczytu powodzenia\, stolica ówczesnego świata (Rzym) była niemal jedną wielką świątynią\, gdzie czczono zarówno bóstwa lokalne jak i „napływowe”. Życie obywateli rzymskich biegło zgodnie z rytmem kalendarza\, obfitującego w liczne dni świąteczne\, które wiązały się z koniecznością uczestnictwa w różnych praktykach kultowych. Mówiąc o rzymskiej religijności\, nie sposób nie wspomnieć o charakterystycznym podejściu do wróżb\, kulcie cezarów\, roli kapłanów i westalek w życiu społeczeństwa. Podczas spotkania uczestnicy posłuchają również o wybranych rzymskich świętach\, takich jak Saturnalia (odpowiednik naszej Gwiazdki) czy Luperkalia (pierwowzór dzisiejszych Walentynek). Ostatnią kwestią\, która zostanie poruszona będzie synkretyzm religijny\, który nasilił się wraz z powiększeniem się obszaru Imperium Romanum – na przykładzie wschodnich kultów Izydy i Mitry. \nData: 17.12.2019 r. \nGodzina: 15:30
URL:https://ma.krakow.pl/event/wtorkowe-spotkania-dla-seniorow-pt-miasta-pelne-bogow/
LOCATION:Muzeum Archeologiczne w Krakowie\, Senacka 3\, Kraków\, małopolskie\, 31-002;\, Polska
CATEGORIES:Warsztaty
ATTACH;FMTTYPE=image/jpeg:https://ma.krakow.pl/wp-content/uploads/2019/12/plakat_17_grudnia_2019.jpg
END:VEVENT
END:VCALENDAR