BEGIN:VCALENDAR
VERSION:2.0
PRODID:-//Muzeum Archeologiczne w Krakowie - ECPv5.10.0//NONSGML v1.0//EN
CALSCALE:GREGORIAN
METHOD:PUBLISH
X-WR-CALNAME:Muzeum Archeologiczne w Krakowie
X-ORIGINAL-URL:https://ma.krakow.pl
X-WR-CALDESC:Wydarzenia dla Muzeum Archeologiczne w Krakowie
BEGIN:VTIMEZONE
TZID:Europe/Warsaw
BEGIN:DAYLIGHT
TZOFFSETFROM:+0100
TZOFFSETTO:+0200
TZNAME:CEST
DTSTART:20220327T010000
END:DAYLIGHT
BEGIN:STANDARD
TZOFFSETFROM:+0200
TZOFFSETTO:+0100
TZNAME:CET
DTSTART:20221030T010000
END:STANDARD
END:VTIMEZONE
BEGIN:VEVENT
DTSTART;TZID=Europe/Warsaw:20221018T150000
DTEND;TZID=Europe/Warsaw:20221018T170000
DTSTAMP:20260426T004843
CREATED:20221007T103906Z
LAST-MODIFIED:20221007T104200Z
UID:24971-1666105200-1666112400@ma.krakow.pl
SUMMARY:Wernisaż wystawy "Novae. 60 lat bułgarsko-polskiej ekspedycji archeologicznej."
DESCRIPTION:Zapraszamy na wernisaż wystawy „Novae. 60 lat bułgarsko-polskiej ekspedycji archeologicznej” poprzedzony dwoma referatami na temat historii badań oraz najnowszych odkryć na stanowisku NOVAE:* „Novae na krańcu świata rzymskiego (Moesia Inferior/Moesia Secunda) 60 lat minęło…” – dr Andrzej B. Biernacki – konsultant naukowy Centrum Ekspedycji Novae\, Uniwersytetu im. Adama Mickiewicza w Poznaniu.oraz*”Od obozu legionowego do prowincjonalnego miasta Novae” – dr hab. Elena Klenina – kierownik Centrum Ekspedycji Novae\, Uniwersytetu im. Adama Mickiewicza w Poznaniu.data: 18.10.2022godz.: 15:00miejsce: Muzeum Archeologicznym w Krakowie\, ul. Poselska 3Wystawa o rzymskim obozie legionowym i bizantyjskim mieście Novae na terenie dawnej prowincji Mezja Dolna\, obecnie północnej Bułgarii będzie dostępna od 18 października 2022 do 31 stycznia 2023.
URL:https://ma.krakow.pl/event/wernisaz-wystawy-novae-60-lat-bulgarsko-polskiej-ekspedycji-archeologicznej/
LOCATION:Gmach główny Muzeum Archeologiczne w Krakwie\, Senacka 3\, Kraków\, małopolskie\, 31-002\, Poland
CATEGORIES:Wszystkie wydarzenia
ATTACH;FMTTYPE=image/jpeg:https://ma.krakow.pl/wp-content/uploads/2022/10/NOVAE_KRAKÓW_2022_MAK_poz.jpg
END:VEVENT
END:VCALENDAR