BEGIN:VCALENDAR
VERSION:2.0
PRODID:-//Muzeum Archeologiczne w Krakowie - ECPv5.10.0//NONSGML v1.0//EN
CALSCALE:GREGORIAN
METHOD:PUBLISH
X-WR-CALNAME:Muzeum Archeologiczne w Krakowie
X-ORIGINAL-URL:https://ma.krakow.pl
X-WR-CALDESC:Wydarzenia dla Muzeum Archeologiczne w Krakowie
BEGIN:VTIMEZONE
TZID:Europe/Warsaw
BEGIN:DAYLIGHT
TZOFFSETFROM:+0100
TZOFFSETTO:+0200
TZNAME:CEST
DTSTART:20220327T010000
END:DAYLIGHT
BEGIN:STANDARD
TZOFFSETFROM:+0200
TZOFFSETTO:+0100
TZNAME:CET
DTSTART:20221030T010000
END:STANDARD
END:VTIMEZONE
BEGIN:VEVENT
DTSTART;TZID=Europe/Warsaw:20221001T140000
DTEND;TZID=Europe/Warsaw:20221001T180000
DTSTAMP:20260425T205514
CREATED:20220928T121617Z
LAST-MODIFIED:20220928T122652Z
UID:24612-1664632800-1664647200@ma.krakow.pl
SUMMARY:Weekend Seniora z Kulturą w Muzeum Archeologicznym w Krakowie
DESCRIPTION:Weekend Seniora z kulturą (1 października 2022 r.) \n1 października 2022 r. \nNowohucki Oddział Muzeum Archeologiczne w Krakowie\, ul. Sasanek 2A \n14:00-18:00 \n\nWarsztaty układania mozaiki oraz pisania gęsim piórem\nZwiedzanie ekspozycji w Lamusie (dla zainteresowanych)
URL:https://ma.krakow.pl/event/weekend-seniora-z-kultura-w-muzeum-archeologicznym-w-krakowie/
LOCATION:Oddział w Nowej Hucie-Branicach\, ul. Sasanek 2A\, Kraków\, małopolskie\, 31-985\, Polska
CATEGORIES:Wszystkie wydarzenia
ATTACH;FMTTYPE=image/jpeg:https://ma.krakow.pl/wp-content/uploads/2022/09/MKiDN_Weekend_seniora_z_kultura_www-1.jpg
END:VEVENT
END:VCALENDAR