BEGIN:VCALENDAR
VERSION:2.0
PRODID:-//Muzeum Archeologiczne w Krakowie - ECPv5.10.0//NONSGML v1.0//EN
CALSCALE:GREGORIAN
METHOD:PUBLISH
X-WR-CALNAME:Muzeum Archeologiczne w Krakowie
X-ORIGINAL-URL:https://ma.krakow.pl
X-WR-CALDESC:Wydarzenia dla Muzeum Archeologiczne w Krakowie
BEGIN:VTIMEZONE
TZID:Europe/Warsaw
BEGIN:DAYLIGHT
TZOFFSETFROM:+0100
TZOFFSETTO:+0200
TZNAME:CEST
DTSTART:20190331T010000
END:DAYLIGHT
BEGIN:STANDARD
TZOFFSETFROM:+0200
TZOFFSETTO:+0100
TZNAME:CET
DTSTART:20191027T010000
END:STANDARD
END:VTIMEZONE
BEGIN:VEVENT
DTSTART;TZID=Europe/Warsaw:20191005T170000
DTEND;TZID=Europe/Warsaw:20191005T170000
DTSTAMP:20260424T232452
CREATED:20190930T093631Z
LAST-MODIFIED:20190930T093631Z
UID:7150-1570294800-1570294800@ma.krakow.pl
SUMMARY:Walki i pochód gladiatorów! Wydarzenie inaugurujące wystawę „Pompeje. Życie i śmierć w cieniu Wezuwiusza” w ogrodach Muzeum Archeologicznego w Krakowie
DESCRIPTION:Walki i pochód gladiatorów! \nWydarzenie inaugurujące wystawę „Pompeje. Życie i śmierć w cieniu Wezuwiusza” w \nogrodach Muzeum Archeologicznego w Krakowie \nPodczas weekendu otwierającego wystawę „Pompeje. Życie i śmierć w cieniu Wezuwiusza” zapraszamy na widowiskowy pokaz walk gladiatorów oraz pochód ulicami Starego Miasta. \nAntyczni wojownicy w uzbrojeniu i strojach z epoki Cesarstwa Rzymskiego\, przejdą ulicami Starego Miasta (Poselska – Senacka – Grodzka- Rynek Główny- Wiślna -Planty -Poselska). Pochód zostanie zakończony w ogrodach Muzeum Archeologicznego\, gdzie stoczą walki pokazowe o laury przed krakowską publicznością. \nW Cesarstwie Rzymskim niezwykłą popularnością cieszyły się walki gladiatorów podzielonych na typy w zależności od broni\, którą się posługiwali. Popularność wojowników z amfiteatru porównać można ze sławą dzisiejszych celebrytów. Ci\, którym udało się wielokrotnie zwyciężyć\, byli gwiazdami Cesarstwa. \nGladiatorzy\, biorący udział w pokazach w Krakowie należą do węgierskiego Stowarzyszenia Collegium Gladiatorium. Członkowie tej organizacji to sportowcy i doświadczeni mistrzowie różnych typów walk.  Stowarzyszenie Gladiatorów powstało w 1994 roku\, z zamiłowania do kultury antycznej\, historii i sportów walki. Jego podstawowym celem jest przybliżenie szerokiej publiczności wiedzy na temat rzymskich gladiatorów (ich broni\, wyposażenia i stylu walki) w formie atrakcyjnych\, dla każdego zrozumiałych pokazów. Przez 25 lat działalności zaprezentowali swoje umiejętności nie tylko na Węgrzech\, ale także w wielu innych krajach Europy\, biorąc udział w festiwalach historycznych. Walczyli na arenach Hiszpanii\, Anglii\, Niemiec i Chorwacji\, jak również Austrii\, Słowacji i Rumunii. Do Polski przybędą\, po raz pierwszy\, na zaproszenie Muzeum Archeologicznego w Krakowie\, aby uświetnić swoim występem inaugurację wystawy „Pompeje. Życie i śmierć w cieniu Wezuwiusza”. \n  \nMiejsce pokazu walk: \nMuzeum Archeologiczne w Krakowie\, ul. Poselska 3. \n  \nDaty i godziny pokazów: \n5 października (sobota)\, godz. 12:00 \n5 października (sobota)\, godz. 17:00 \n6 października (niedziela)\, godz.12:00 \n  \nBilety: 44 zł (normalny)\, 34 zł (ulgowy) \nBilety zakupione na show gladiatorów uprawniają również do wstępu na wystawę. \n  \nPochody gladiatorów ulicami Starego Miasta: \n5 października (sobota)\, godz. 10:00 \n5 października (sobota)\, godz. 15:00 \n6 października (niedziela)\, godz.10:00 \n  \n(fota z panią pompejańską) + \nWięcej o wystawie: http://ma.krakow.pl/event/pompeje-zycie-i-smierc-w-cieniu-wezuwiusza/
URL:https://ma.krakow.pl/event/walki-i-pochod-gladiatorow-wydarzenie-inaugurujace-wystawe-pompeje-zycie-i-smierc-w-cieniu-wezuwiusza-w-ogrodach-muzeum-archeologicznego-w-krakowie-3/
LOCATION:Muzeum Archeologiczne w Krakowie\, Senacka 3\, Kraków\, małopolskie\, 31-002;\, Polska
ATTACH;FMTTYPE=image/jpeg:https://ma.krakow.pl/wp-content/uploads/2019/09/gladiatorzy.jpg
END:VEVENT
END:VCALENDAR