BEGIN:VCALENDAR
VERSION:2.0
PRODID:-//Muzeum Archeologiczne w Krakowie - ECPv5.10.0//NONSGML v1.0//EN
CALSCALE:GREGORIAN
METHOD:PUBLISH
X-WR-CALNAME:Muzeum Archeologiczne w Krakowie
X-ORIGINAL-URL:https://ma.krakow.pl
X-WR-CALDESC:Wydarzenia dla Muzeum Archeologiczne w Krakowie
BEGIN:VTIMEZONE
TZID:Europe/Warsaw
BEGIN:DAYLIGHT
TZOFFSETFROM:+0100
TZOFFSETTO:+0200
TZNAME:CEST
DTSTART:20200329T010000
END:DAYLIGHT
BEGIN:STANDARD
TZOFFSETFROM:+0200
TZOFFSETTO:+0100
TZNAME:CET
DTSTART:20201025T010000
END:STANDARD
END:VTIMEZONE
BEGIN:VEVENT
DTSTART;TZID=Europe/Warsaw:20200701T000000
DTEND;TZID=Europe/Warsaw:20200901T000000
DTSTAMP:20260424T033431
CREATED:20200827T092930Z
LAST-MODIFIED:20200831T082334Z
UID:8959-1593561600-1598918400@ma.krakow.pl
SUMMARY:Wakacyjne warsztaty ONLINE
DESCRIPTION:Zapraszamy do udziału w wakacyjnych warsztatach ONLINE. Przygotowane przez nas tematy to:  “Pradziejowy zwierzyniec” “Najstarsze naczynia człowieka” “Kraina mumii” oraz “Tajemnice Wezuwiusza” Życzymy miłej zabawy! 					\n						\n				\n						\n					\n		\n								\n					\n		\n				\n						\n							\n					\n			\n							\n						\n				\n					\n					\n				\n				\n						\n					\n		\n				\n			\n							\n						\n				\n					\n					\n				\n				\n						\n					\n		\n				\n			\n							\n						\n				\n					\n					\n				\n				\n						\n					\n		\n				\n			\n							\n						\n				\n					\n					\n				\n				\n						\n					\n		\n								\n					\n		\n				\n						\n							\n					\n			\n							\n						\n				\n								\n				Pradziejowy zwierzyniec Jeśli zapytamy Was\, jakie jest najciekawsze\, najbardziej znane prehistoryczne zwierzę\, to ile powie: Mamut !? Zapewne wiele\, dowiedzmy się więc czegoś więcej o nim\, a nawet… spróbujmy go zrobić! 					\n						\n				\n						\n					\n		\n				\n			\n							\n						\n				\n								\n				Najstarsze naczynia człowieka Poznajmy tajemnice ceramiki pradziejowej! Jak była wykonywana? Jak stare są te najstarsze naczynia? Skąd się wzięła\, a czego używano wcześniej? No i najważniejsze\, jak zrobić ją samodzielnie? 					\n						\n				\n						\n					\n		\n				\n			\n							\n						\n				\n								\n				Kraina mumii Na czym polegała mumifikacja i po co ją wykonywano? Jak zachowywano się względem osób zmarłych? Spróbujmy też zrobić taką naszą\, małą mumię ☺ 					\n						\n				\n						\n					\n		\n				\n			\n							\n						\n				\n								\n				Tajemnice Wezuwiusza Zagłada Pompejów i innych okolicznych miast to jedna z wielkich tragedii starożytności. Spowodowała ją erupcja wulkanu – Wezuwiusza. Jak do niej doszło? Jakie zostawiła ślady? I czego możemy się z nich dowiedzieć? A może… zróbmy swój wulkan! I spróbujmy wywołać erupcję!
URL:https://ma.krakow.pl/event/wakacyjne-warsztaty-online-2/
CATEGORIES:Wystawy,Zajęcia
ATTACH;FMTTYPE=image/png:https://ma.krakow.pl/wp-content/uploads/2020/08/wakacje_online_2020.png
END:VEVENT
END:VCALENDAR