BEGIN:VCALENDAR
VERSION:2.0
PRODID:-//Muzeum Archeologiczne w Krakowie - ECPv5.10.0//NONSGML v1.0//EN
CALSCALE:GREGORIAN
METHOD:PUBLISH
X-WR-CALNAME:Muzeum Archeologiczne w Krakowie
X-ORIGINAL-URL:https://ma.krakow.pl
X-WR-CALDESC:Wydarzenia dla Muzeum Archeologiczne w Krakowie
BEGIN:VTIMEZONE
TZID:Europe/Warsaw
BEGIN:DAYLIGHT
TZOFFSETFROM:+0100
TZOFFSETTO:+0200
TZNAME:CEST
DTSTART:20200329T010000
END:DAYLIGHT
BEGIN:STANDARD
TZOFFSETFROM:+0200
TZOFFSETTO:+0100
TZNAME:CET
DTSTART:20201025T010000
END:STANDARD
END:VTIMEZONE
BEGIN:VEVENT
DTSTART;TZID=Europe/Warsaw:20200229T130000
DTEND;TZID=Europe/Warsaw:20200229T160000
DTSTAMP:20260424T055157
CREATED:20200226T154517Z
LAST-MODIFIED:20200831T090005Z
UID:8115-1582981200-1582992000@ma.krakow.pl
SUMMARY:Rzymscy legioniści odwiedzą wystawę „Pompeje. Życie i śmierć w cieniu Wezuwiusza”
DESCRIPTION:29 lutego (sobota) w godzinach 13:00-16:00  wystawę odwiedzi grupa pasjonatów ze Stowarzyszenia Pro Antica\, która prezentować się będzie w strojach z epoki Cesarstwa Rzymskiego.  Tego dnia\, zwiedzając wystawę „Pompeje. Życie i śmierć w cieniu Wezuwiusza”\, będzie można spotkać legionistę w pełnym uzbrojeniu oraz kobiety w strojach z I w.n.e. Wydarzenie będzie wspaniałą okazją do rozmów o pasji członków grupy\, historii\, a także do zrobienia pamiątkowych zdjęć.
URL:https://ma.krakow.pl/event/rzymscy-legionisci-odwiedza-wystawe-pompeje-zycie-i-smierc-w-cieniu-wezuwiusza/
LOCATION:Muzeum Archeologiczne w Krakowie\, Senacka 3\, Kraków\, małopolskie\, 31-002;\, Polska
ATTACH;FMTTYPE=image/jpeg:https://ma.krakow.pl/wp-content/uploads/2020/02/Legionisci_29.02.2020.jpg
END:VEVENT
END:VCALENDAR