BEGIN:VCALENDAR
VERSION:2.0
PRODID:-//Muzeum Archeologiczne w Krakowie - ECPv5.10.0//NONSGML v1.0//EN
CALSCALE:GREGORIAN
METHOD:PUBLISH
X-WR-CALNAME:Muzeum Archeologiczne w Krakowie
X-ORIGINAL-URL:https://ma.krakow.pl
X-WR-CALDESC:Wydarzenia dla Muzeum Archeologiczne w Krakowie
BEGIN:VTIMEZONE
TZID:Europe/Warsaw
BEGIN:DAYLIGHT
TZOFFSETFROM:+0100
TZOFFSETTO:+0200
TZNAME:CEST
DTSTART:20190331T010000
END:DAYLIGHT
BEGIN:STANDARD
TZOFFSETFROM:+0200
TZOFFSETTO:+0100
TZNAME:CET
DTSTART:20191027T010000
END:STANDARD
END:VTIMEZONE
BEGIN:VEVENT
DTSTART;TZID=Europe/Warsaw:20190901T120000
DTEND;TZID=Europe/Warsaw:20190901T120000
DTSTAMP:20260424T180925
CREATED:20190827T125304Z
LAST-MODIFIED:20190827T125304Z
UID:6792-1567339200-1567339200@ma.krakow.pl
SUMMARY:Pożegnanie wakacji w Muzeum Archeologicznym w Krakowie „Oko w oko z barbarzyńcami”
DESCRIPTION:
URL:https://ma.krakow.pl/event/pozegnanie-wakacji-w-muzeum-archeologicznym-w-krakowie-oko-w-oko-z-barbarzyncami/
LOCATION:Muzeum Archeologiczne w Krakowie\, Senacka 3\, Kraków\, małopolskie\, 31-002;\, Polska
CATEGORIES:Warsztaty
ATTACH;FMTTYPE=image/jpeg:https://ma.krakow.pl/wp-content/uploads/2019/08/Plakat-tsunami-dla-dzieci.jpg
END:VEVENT
END:VCALENDAR