BEGIN:VCALENDAR
VERSION:2.0
PRODID:-//Muzeum Archeologiczne w Krakowie - ECPv5.10.0//NONSGML v1.0//EN
CALSCALE:GREGORIAN
METHOD:PUBLISH
X-WR-CALNAME:Muzeum Archeologiczne w Krakowie
X-ORIGINAL-URL:https://ma.krakow.pl
X-WR-CALDESC:Wydarzenia dla Muzeum Archeologiczne w Krakowie
BEGIN:VTIMEZONE
TZID:Europe/Warsaw
BEGIN:DAYLIGHT
TZOFFSETFROM:+0100
TZOFFSETTO:+0200
TZNAME:CEST
DTSTART:20220327T010000
END:DAYLIGHT
BEGIN:STANDARD
TZOFFSETFROM:+0200
TZOFFSETTO:+0100
TZNAME:CET
DTSTART:20221030T010000
END:STANDARD
END:VTIMEZONE
BEGIN:VEVENT
DTSTART;TZID=Europe/Warsaw:20220925T120000
DTEND;TZID=Europe/Warsaw:20220925T130000
DTSTAMP:20260425T161437
CREATED:20220830T070231Z
LAST-MODIFIED:20220907T100045Z
UID:24006-1664107200-1664110800@ma.krakow.pl
SUMMARY:Niedzielne warsztaty rodzinne
DESCRIPTION:cykl: Historia opowiedziana strojem					\n						\n				\n						\n					\n		\n								\n					\n		\n				\n						\n							\n					\n			\n							\n						\n				\n								\n				Czym jest strój ? Jaka jest jego rola w historii? W co ubierali się nasi przodkowie? -na te i wiele innych pytań odpowiemy w trakcie naszych warsztatów. Każde ze spotkań rozpocznie się od prezentacji której zadaniem będzie wprowadzenie uczestników w klimat aktualnie omawianej epoki. Będzie to podróż do przeszłości w trakcie której zostaną przedstawione materiały czyli podstawa każdego ubioru. Pojawią się również charakterystyczne elementy męskiej i damskiej garderoby. Na zakończenie każdego spotkania uczestnicy wykonają przedmiot który będzie nawiązywał do omówionego wcześniej tematu. W garderobie najdawniejszych przodkówZ modą pośród SłowianHafty i zbroje – kilka słów o średniowieczu cz. I i II					\n						\n				\n						\n					\n		\n								\n					\n		\n				\n						\n							\n					\n			\n							\n						\n				\n								\n				TERMINY: 25.09 202223.10.202227.11.202218.12.2022
URL:https://ma.krakow.pl/event/niedzielne-warsztaty-rodzinne/
LOCATION:Gmach główny Muzeum Archeologiczne w Krakwie\, Senacka 3\, Kraków\, małopolskie\, 31-002\, Poland
CATEGORIES:Warsztaty,Zajęcia
ATTACH;FMTTYPE=image/jpeg:https://ma.krakow.pl/wp-content/uploads/2022/08/baner-niedzielne-1.jpg
END:VEVENT
END:VCALENDAR