BEGIN:VCALENDAR
VERSION:2.0
PRODID:-//Muzeum Archeologiczne w Krakowie - ECPv5.10.0//NONSGML v1.0//EN
CALSCALE:GREGORIAN
METHOD:PUBLISH
X-WR-CALNAME:Muzeum Archeologiczne w Krakowie
X-ORIGINAL-URL:https://ma.krakow.pl
X-WR-CALDESC:Wydarzenia dla Muzeum Archeologiczne w Krakowie
BEGIN:VTIMEZONE
TZID:Europe/Warsaw
BEGIN:DAYLIGHT
TZOFFSETFROM:+0100
TZOFFSETTO:+0200
TZNAME:CEST
DTSTART:20220327T010000
END:DAYLIGHT
BEGIN:STANDARD
TZOFFSETFROM:+0200
TZOFFSETTO:+0100
TZNAME:CET
DTSTART:20221030T010000
END:STANDARD
END:VTIMEZONE
BEGIN:VEVENT
DTSTART;TZID=Europe/Warsaw:20221009T120000
DTEND;TZID=Europe/Warsaw:20221009T130000
DTSTAMP:20260425T234032
CREATED:20220830T071121Z
LAST-MODIFIED:20220907T100006Z
UID:24019-1665316800-1665320400@ma.krakow.pl
SUMMARY:Niedzielne warsztaty rodzinne
DESCRIPTION:cykl: W prahistorycznym domu					\n						\n				\n						\n					\n		\n								\n					\n		\n				\n						\n							\n					\n			\n							\n						\n				\n								\n				Podczas zajęć opowiemy jak budowano domy w prahistorii i jak wyglądała codzienność ich mieszkańców. W pierwszej części każdego „mini-cyklu”\, składającego się z dwóch spotkań\, uczestnicy dowiedzą się\, jak konstruowano domy w poszczególnych epokach. W drugiej poznają zajęcia\, którymi mieszkańcy tych konstrukcji zajmowali się na co dzień. W części warsztatowej zbudujemy modele domów z danej epoki. 1-2. W długim domu pierwszych rolników – neolit  cz. I  i II3-4. W domu godnym nowych czasów – schyłek epoki kamienia cz. I i II 					\n						\n				\n						\n					\n		\n								\n					\n		\n				\n						\n							\n					\n			\n							\n						\n				\n								\n				TERMINY: 09.10.202220.11.202211.12.202215.01.2022
URL:https://ma.krakow.pl/event/niedzielne-warsztaty-rodzinne-3/
LOCATION:Gmach główny Muzeum Archeologiczne w Krakwie\, Senacka 3\, Kraków\, małopolskie\, 31-002\, Poland
CATEGORIES:Warsztaty,Zajęcia
ATTACH;FMTTYPE=image/jpeg:https://ma.krakow.pl/wp-content/uploads/2022/08/baner-niedzielne-2.jpg
END:VEVENT
END:VCALENDAR