BEGIN:VCALENDAR
VERSION:2.0
PRODID:-//Muzeum Archeologiczne w Krakowie - ECPv5.10.0//NONSGML v1.0//EN
CALSCALE:GREGORIAN
METHOD:PUBLISH
X-WR-CALNAME:Muzeum Archeologiczne w Krakowie
X-ORIGINAL-URL:https://ma.krakow.pl
X-WR-CALDESC:Wydarzenia dla Muzeum Archeologiczne w Krakowie
BEGIN:VTIMEZONE
TZID:Europe/Warsaw
BEGIN:DAYLIGHT
TZOFFSETFROM:+0100
TZOFFSETTO:+0200
TZNAME:CEST
DTSTART:20230326T010000
END:DAYLIGHT
BEGIN:STANDARD
TZOFFSETFROM:+0200
TZOFFSETTO:+0100
TZNAME:CET
DTSTART:20231029T010000
END:STANDARD
END:VTIMEZONE
BEGIN:VEVENT
DTSTART;TZID=Europe/Warsaw:20230611T120000
DTEND;TZID=Europe/Warsaw:20230611T133000
DTSTAMP:20260426T030002
CREATED:20230104T092018Z
LAST-MODIFIED:20230104T092018Z
UID:26618-1686484800-1686490200@ma.krakow.pl
SUMMARY:Niedzielne warsztaty rodzinne
DESCRIPTION:cykl: W prahistorycznym domu					\n						\n				\n						\n					\n		\n								\n					\n		\n				\n						\n							\n					\n			\n							\n						\n				\n								\n				Podczas zajęć opowiemy jak budowano domy w prahistorii i jak wyglądała codzienność ich mieszkańców. W części warsztatowej zbudujemy modele domów z różnych epok. 					\n						\n				\n						\n					\n		\n								\n					\n		\n				\n						\n							\n					\n			\n							\n						\n				\n								\n				TERMINY: 15.01.202312.02.202312.03.202316.04.202314.05.202311.06.2023 
URL:https://ma.krakow.pl/event/niedzielne-warsztaty-rodzinne-3-2-2-2-2-2-2-2/
LOCATION:Gmach główny Muzeum Archeologiczne w Krakwie\, Senacka 3\, Kraków\, małopolskie\, 31-002\, Poland
CATEGORIES:Warsztaty,Zajęcia
ATTACH;FMTTYPE=image/jpeg:https://ma.krakow.pl/wp-content/uploads/2023/01/niedzielne-warsztaty_II-2023K-baner.jpg
END:VEVENT
END:VCALENDAR