BEGIN:VCALENDAR
VERSION:2.0
PRODID:-//Muzeum Archeologiczne w Krakowie - ECPv5.10.0//NONSGML v1.0//EN
CALSCALE:GREGORIAN
METHOD:PUBLISH
X-WR-CALNAME:Muzeum Archeologiczne w Krakowie
X-ORIGINAL-URL:https://ma.krakow.pl
X-WR-CALDESC:Wydarzenia dla Muzeum Archeologiczne w Krakowie
BEGIN:VTIMEZONE
TZID:Europe/Warsaw
BEGIN:DAYLIGHT
TZOFFSETFROM:+0100
TZOFFSETTO:+0200
TZNAME:CEST
DTSTART:20190331T010000
END:DAYLIGHT
BEGIN:STANDARD
TZOFFSETFROM:+0200
TZOFFSETTO:+0100
TZNAME:CET
DTSTART:20191027T010000
END:STANDARD
END:VTIMEZONE
BEGIN:VEVENT
DTSTART;TZID=Europe/Warsaw:20191013T143000
DTEND;TZID=Europe/Warsaw:20191013T143000
DTSTAMP:20260424T205920
CREATED:20191007T102230Z
LAST-MODIFIED:20191009T131001Z
UID:7268-1570977000-1570977000@ma.krakow.pl
SUMMARY:Niedzielne Warsztaty dla dzieci i młodzieży
DESCRIPTION:
URL:https://ma.krakow.pl/event/niedzielne-warsztaty-dla-dzieci-i-mlodziezy/
LOCATION:Muzeum Archeologiczne w Krakowie\, Senacka 3\, Kraków\, małopolskie\, 31-002;\, Polska
CATEGORIES:Warsztaty
ATTACH;FMTTYPE=image/jpeg:https://ma.krakow.pl/wp-content/uploads/2019/10/baner_warsztaty_grecja_zmiana.jpg
END:VEVENT
END:VCALENDAR