BEGIN:VCALENDAR
VERSION:2.0
PRODID:-//Muzeum Archeologiczne w Krakowie - ECPv5.10.0//NONSGML v1.0//EN
CALSCALE:GREGORIAN
METHOD:PUBLISH
X-WR-CALNAME:Muzeum Archeologiczne w Krakowie
X-ORIGINAL-URL:https://ma.krakow.pl
X-WR-CALDESC:Wydarzenia dla Muzeum Archeologiczne w Krakowie
BEGIN:VTIMEZONE
TZID:Europe/Warsaw
BEGIN:DAYLIGHT
TZOFFSETFROM:+0100
TZOFFSETTO:+0200
TZNAME:CEST
DTSTART:20190331T010000
END:DAYLIGHT
BEGIN:STANDARD
TZOFFSETFROM:+0200
TZOFFSETTO:+0100
TZNAME:CET
DTSTART:20191027T010000
END:STANDARD
END:VTIMEZONE
BEGIN:VEVENT
DTSTART;TZID=Europe/Warsaw:20190530T130000
DTEND;TZID=Europe/Warsaw:20190530T130000
DTSTAMP:20260424T151355
CREATED:20190527T113608Z
LAST-MODIFIED:20190527T114209Z
UID:6017-1559221200-1559221200@ma.krakow.pl
SUMMARY:Muzealne Spotkania Naukowe - "Podhorce na Ukrainie. Zabytki z wykopalisk Teodora Nieczuja-Ziemięckiego"
DESCRIPTION:W latach 1881-1883 krakowski archeolog Teodor Ziemięcki przeprowadził wykopaliska na grodzisku i cmentarzysku latopisowego Pleśniska\, które znajdują się na terenie wsi Podhorce (obwód lwowski\, Ukraina). Po pierwszym sezonie badawczym napisał: „Ponieważ badania te w Podhorcach\, z tylu względów tak ciekawe i w rezultaty już obfite\, za rozpoczęte zaledwie uważać należy\, i mając zamiar prowadzenia ich dalej w roku bieżącym\, ograniczam się przeto na tym nader treściwym zdaniu sprawy\, odkładając podanie planu\, rysunków przedmiotów\, oraz zużytkowanie naukowe materyjału tu zdobytego do późniejszego szczegółowego opisu całego wykopaliska Podhoreckiego”. Podobnie skrótowo przedstawił wyniki dwu kolejnych sezonów badawczych. Nie zrealizował zamiaru szczegółowego opisania i zilustrowania odkrytych przez siebie zabytków\, jednak jego niosące zwięzłą i jasną informację sprawozdania były bardzo przydatne przy ich opracowaniu\, którego podjął się Radosław Liwoch\, referent i autor książki „Zabytki z wykopalisk Teodora Nieczuja-Ziemięckiego w latopisowym Pleśnisku (Podhorce na Ukrainie) / Artefacts from Excavations by Teodor Nieczuja-Ziemięcki in Mediaeval Plìsnes´k (Pìdgìrcì in Ukraine)” (Biblioteka Muzeum Archeologicznego w Krakowie\, t. VII\, Kraków\, 2018). W wystąpieniu przedstawione zostaną nie tylko wspomniane w tytule zabytki (świadectwo początków państwowości ruskiej i chrystianizacji wschodniej Europy)\, ale także poświęcona im książka (konstrukcja\, zagadnienie transliteracji).
URL:https://ma.krakow.pl/event/muzealne-spotkania-naukowe-podhorce-na-ukrainie-zabytki-z-wykopalisk-teodora-nieczuja-ziemieckiego/
LOCATION:Muzeum Archeologiczne w Krakowie\, Senacka 3\, Kraków\, małopolskie\, 31-002;\, Polska
CATEGORIES:Wykłady
END:VEVENT
END:VCALENDAR