BEGIN:VCALENDAR
VERSION:2.0
PRODID:-//Muzeum Archeologiczne w Krakowie - ECPv5.10.0//NONSGML v1.0//EN
CALSCALE:GREGORIAN
METHOD:PUBLISH
X-WR-CALNAME:Muzeum Archeologiczne w Krakowie
X-ORIGINAL-URL:https://ma.krakow.pl
X-WR-CALDESC:Wydarzenia dla Muzeum Archeologiczne w Krakowie
BEGIN:VTIMEZONE
TZID:Europe/Warsaw
BEGIN:DAYLIGHT
TZOFFSETFROM:+0100
TZOFFSETTO:+0200
TZNAME:CEST
DTSTART:20240331T010000
END:DAYLIGHT
BEGIN:STANDARD
TZOFFSETFROM:+0200
TZOFFSETTO:+0100
TZNAME:CET
DTSTART:20241027T010000
END:STANDARD
END:VTIMEZONE
BEGIN:VEVENT
DTSTART;TZID=Europe/Warsaw:20240422T170000
DTEND;TZID=Europe/Warsaw:20240422T190000
DTSTAMP:20260421T055512
CREATED:20240408T084352Z
LAST-MODIFIED:20241122T092653Z
UID:33149-1713805200-1713812400@ma.krakow.pl
SUMMARY:Konsultacje społeczne 22.04.2024
DESCRIPTION:Konsultacje społeczne w Muzeum Archeologicznym w Krakowie \nPragniemy poznać Twoją opinię na temat planów związanych z dostosowaniem zabytkowej siedziby Muzeum Archeologicznego w Krakowie do współczesnych standardów w ramach projektu „Dawny klasztor – byłe więzienie – nowoczesne muzeum”. Aplikujemy do programu FEnIKS (Fundusze Europejskie na Infrastrukturę\, Klimat\, Środowisko 2021-2027). \nZapraszamy na otwarte spotkanie! \nTermin: 22 kwietnia 2024 r. \nGodzina: 17:00 \nMiejsce: nowa sala konferencyjna nowe przestrzenie Muzeum Archeologiczne w Krakowie – wejście od ulicy ul. Senackiej 3!   \nW ramach konsultacji społecznych przedstawimy plany: \n\nremontu\, przebudowy i rozbudowy budynku głównego\, w tym budowy pawilonu wejściowego i budynku zaplecza konserwacji;\nodbudowy zabytkowego ogrodu wraz z wirydarzem;\noferty nowych ekspozycji wystawienniczych;\noferty edukacyjno-kulturalnej wraz z dostosowaniem dla osób ze szczególnymi potrzebami.\n\nProgram spotkania: \n\n17:00 – powitanie gości\n17:10-18:00 – prezentacja koncepcji projektu (część wystawowa\, program kulturalno- edukacyjny\, rozwiązania techniczne\, w tym koncepcja rozwiązań dla osób ze szczególnymi potrzebami)\n18:00-19:00 –  dyskusja oraz ankieta\n\n  \nPrzewiduje się poczęstunek! \n  \nChęć uczestnictwa w spotkaniu prosimy zgłaszać na adres mailowy mak@ma.krakow.pl dnia 18 kwietnia br.
URL:https://ma.krakow.pl/event/konsultacje-spoleczne-22-04-2024/
LOCATION:Gmach główny Muzeum Archeologiczne w Krakwie\, Senacka 3\, Kraków\, małopolskie\, 31-002\, Poland
CATEGORIES:Wszystkie wydarzenia
ATTACH;FMTTYPE=image/png:https://ma.krakow.pl/wp-content/uploads/2024/04/Konsultacje-spoleczne-banner.png
END:VEVENT
END:VCALENDAR