BEGIN:VCALENDAR
VERSION:2.0
PRODID:-//Muzeum Archeologiczne w Krakowie - ECPv5.10.0//NONSGML v1.0//EN
CALSCALE:GREGORIAN
METHOD:PUBLISH
X-WR-CALNAME:Muzeum Archeologiczne w Krakowie
X-ORIGINAL-URL:https://ma.krakow.pl
X-WR-CALDESC:Wydarzenia dla Muzeum Archeologiczne w Krakowie
BEGIN:VTIMEZONE
TZID:Europe/Warsaw
BEGIN:DAYLIGHT
TZOFFSETFROM:+0100
TZOFFSETTO:+0200
TZNAME:CEST
DTSTART:20240331T010000
END:DAYLIGHT
BEGIN:STANDARD
TZOFFSETFROM:+0200
TZOFFSETTO:+0100
TZNAME:CET
DTSTART:20241027T010000
END:STANDARD
END:VTIMEZONE
BEGIN:VEVENT
DTSTART;TZID=Europe/Warsaw:20240525T180000
DTEND;TZID=Europe/Warsaw:20240525T193000
DTSTAMP:20260421T222116
CREATED:20240517T113325Z
LAST-MODIFIED:20240517T132648Z
UID:33665-1716660000-1716665400@ma.krakow.pl
SUMMARY:Koncert letni w Branickim Dworze
DESCRIPTION:Kontynuując wieloletnią tradycję\, zapraszamy na koncert muzyki kameralnej do zespołu dworsko-parkowego w Krakowie Branicach\, przy ul. Sasanek 2A. Wystąpią studenci Akademii Muzycznej w Krakowie z klasy kameralistyki dr. hab. P. Soleckiego. Zaprezentują m.in. utwory: W.A. Mozarta\, F. Farkasa\, D. Agay’a. Koncert odbędzie się 25 maja 2024 roku o godz. 18.00\, wstęp wolny. 					\n						\n				\n						\n					\n		\n								\n					\n		\n				\n						\n							\n					\n			\n							\n						\n				\n								\n				\n\n 
URL:https://ma.krakow.pl/event/koncert-letni-w-branickim-dworze/
LOCATION:Oddział w Nowej Hucie-Branicach\, ul. Sasanek 2A\, Kraków\, małopolskie\, 31-985\, Polska
CATEGORIES:Wszystkie wydarzenia
ATTACH;FMTTYPE=image/jpeg:https://ma.krakow.pl/wp-content/uploads/2024/05/akordeon.jpg
END:VEVENT
END:VCALENDAR