BEGIN:VCALENDAR
VERSION:2.0
PRODID:-//Muzeum Archeologiczne w Krakowie - ECPv5.10.0//NONSGML v1.0//EN
CALSCALE:GREGORIAN
METHOD:PUBLISH
X-WR-CALNAME:Muzeum Archeologiczne w Krakowie
X-ORIGINAL-URL:https://ma.krakow.pl
X-WR-CALDESC:Wydarzenia dla Muzeum Archeologiczne w Krakowie
BEGIN:VTIMEZONE
TZID:Europe/Warsaw
BEGIN:DAYLIGHT
TZOFFSETFROM:+0100
TZOFFSETTO:+0200
TZNAME:CEST
DTSTART:20240331T010000
END:DAYLIGHT
BEGIN:STANDARD
TZOFFSETFROM:+0200
TZOFFSETTO:+0100
TZNAME:CET
DTSTART:20241027T010000
END:STANDARD
END:VTIMEZONE
BEGIN:VEVENT
DTSTART;TZID=Europe/Warsaw:20240216T120000
DTEND;TZID=Europe/Warsaw:20240216T133000
DTSTAMP:20260419T205700
CREATED:20240117T115922Z
LAST-MODIFIED:20240117T120121Z
UID:32080-1708084800-1708090200@ma.krakow.pl
SUMMARY:Ferie 2024
DESCRIPTION:12.00-13.30 Prehistoryczne zwierzęta – wymarłe ssaki epoki lodowcowej  \nZajęcia mają na celu poznanie zwierząt żyjących w epoce kamienia od ok. 70000 p.n.e. do 5300 p.n.e. na terenie Małopolski. Uczestnicy dowiedzą się\, które gatunki zwierząt wymarły\, a które przetrwały do dnia dzisiejszego; czym współczesne osobniki różnią się od swoich pradziejowych kuzynów oraz poznają ciekawostki związane z ich naturalnym środowiskiem. W części praktycznej uczestnicy ulepią z gliny figurki wybranych zwierząt. Na zakończenie otrzymają karty pracy\, dzięki którym będą mogli sprawdzić swoją wiedzę. \n  \nBEZ REZERWACJI! \nNa zajęcia zapraszamy dzieci od 7 roku życia. \nKoszt: 18 zł od osoby \nMiejsce: Muzeum Archeologiczne w Krakowie\, ul. Poselska 3 \n 
URL:https://ma.krakow.pl/event/ferie-2024-3-2-2-2-2-2-2-3-3/
LOCATION:Gmach główny Muzeum Archeologiczne w Krakwie\, Senacka 3\, Kraków\, małopolskie\, 31-002\, Poland
CATEGORIES:Wszystkie wydarzenia
ATTACH;FMTTYPE=image/jpeg:https://ma.krakow.pl/wp-content/uploads/2024/01/plakat_ferie-2024_baner-scaled.jpg
END:VEVENT
END:VCALENDAR