BEGIN:VCALENDAR
VERSION:2.0
PRODID:-//Muzeum Archeologiczne w Krakowie - ECPv5.10.0//NONSGML v1.0//EN
CALSCALE:GREGORIAN
METHOD:PUBLISH
X-WR-CALNAME:Muzeum Archeologiczne w Krakowie
X-ORIGINAL-URL:https://ma.krakow.pl
X-WR-CALDESC:Wydarzenia dla Muzeum Archeologiczne w Krakowie
BEGIN:VTIMEZONE
TZID:Europe/Warsaw
BEGIN:DAYLIGHT
TZOFFSETFROM:+0100
TZOFFSETTO:+0200
TZNAME:CEST
DTSTART:20220327T010000
END:DAYLIGHT
BEGIN:STANDARD
TZOFFSETFROM:+0200
TZOFFSETTO:+0100
TZNAME:CET
DTSTART:20221030T010000
END:STANDARD
END:VTIMEZONE
BEGIN:VEVENT
DTSTART;TZID=Europe/Warsaw:20220920T170000
DTEND;TZID=Europe/Warsaw:20220920T183000
DTSTAMP:20260425T142844
CREATED:20220830T082709Z
LAST-MODIFIED:20220906T082416Z
UID:24071-1663693200-1663698600@ma.krakow.pl
SUMMARY:Archeologiczne echa dawnych konfliktów
DESCRIPTION:Wtorkowe spotkania z zabytkiem (nie tylko dla Seniorów) – archeologiczne echa dawnych konfliktów 					\n						\n				\n						\n					\n		\n								\n					\n		\n				\n						\n							\n					\n			\n							\n						\n				\n								\n				Spotkanie z zabytkiem to nowy cykl prelekcji połączony z pokazem eksponatów. Starannie wybrany obiekt wydobyty z muzealnych magazynów lub gablot\, stanie się okazją do przedstawienia różnych aspektów militarnych zmagań naszych przodków. Biorąc pod uwagę fakt\, jak podobni byli ludzie\, którzy żyli przed nami\, będzie to zarazem opowieść o nas samych… Auri sacra fames\, czyli o rzymskiej broni na terenie BarbaricumMiecz – oręż godny wojownikaBroń Celtów981 r. Poszedł Włodzimierz ku Lachom i zajął grody ichTERMINY: 20.09 202218.10.202222.11.202220.12.2022 					\n						\n				\n						\n					\n		\n								\n					\n		\n				\n						\n							\n					\n			\n							\n						\n				\n								\n				Rezerwacje prosimy kierować na adres  rezerwacjegrupy@ma.krakow.pl lub tel. (12) 422 71 00\, w. 3 (w godzinach 9-15) Cena: 15 zł od osoby Czas: 90 min. (zajęcia obejmują: wykład i wizytę na wystawie lub prezentację zabytków z magazynów Muzeum ) Godz.: 17.00-18:30  Miejsce warsztatów: Muzeum Archeologiczne w Krakowie\, ul. Poselska 3
URL:https://ma.krakow.pl/event/archeologiczne-echa-dawnych-konfliktow/
LOCATION:Gmach główny Muzeum Archeologiczne w Krakwie\, Senacka 3\, Kraków\, małopolskie\, 31-002\, Poland
CATEGORIES:Warsztaty,Zajęcia
ATTACH;FMTTYPE=image/jpeg:https://ma.krakow.pl/wp-content/uploads/2022/08/wtorkowe-spotkania-baner.jpg
END:VEVENT
END:VCALENDAR