BEGIN:VCALENDAR
VERSION:2.0
PRODID:-//Muzeum Archeologiczne w Krakowie - ECPv5.10.0//NONSGML v1.0//EN
CALSCALE:GREGORIAN
METHOD:PUBLISH
X-WR-CALNAME:Muzeum Archeologiczne w Krakowie
X-ORIGINAL-URL:https://ma.krakow.pl
X-WR-CALDESC:Wydarzenia dla Muzeum Archeologiczne w Krakowie
BEGIN:VTIMEZONE
TZID:Europe/Warsaw
BEGIN:DAYLIGHT
TZOFFSETFROM:+0100
TZOFFSETTO:+0200
TZNAME:CEST
DTSTART:20200329T010000
END:DAYLIGHT
BEGIN:STANDARD
TZOFFSETFROM:+0200
TZOFFSETTO:+0100
TZNAME:CET
DTSTART:20201025T010000
END:STANDARD
END:VTIMEZONE
BEGIN:VEVENT
DTSTART;TZID=Europe/Warsaw:20200907T080000
DTEND;TZID=Europe/Warsaw:20201130T170000
DTSTAMP:20260424T001243
CREATED:20200915T091011Z
LAST-MODIFIED:20200922T124019Z
UID:9410-1599465600-1606755600@ma.krakow.pl
SUMMARY:"70 lat – archeolodzy dla Nowej Huty"
DESCRIPTION:Od początku swego istnienia Oddział Muzeum Archeologicznego w Krakowie jest nierozerwalnie związany z dzielnicą Nowa Huta i kombinatem metalurgicznym. Licznych odkryć archeologicznych dokonano już w 1949 roku\, gdy rozpoczęto pierwsze prace budowlane. We wrześniu 1950 roku Ministerstwo Kultury i Sztuki powołało nową instytucję –   Kierownictwo Prac Wykopaliskowych w Nowej Hucie. Pierwsza siedziba placówki mieściła się przy ul. Św. Jana 22\, potem os. Zielonym 7\, a od roku 2007 na ul. Sasanek 2A (Kraków Branice). \nLata pięćdziesiąte\, sześćdziesiąte i siedemdziesiąte XX wieku to okres największego nasilenia prac wykopaliskowych. Prowadzono je m.in. w Wyciążu\, Cle\, Mogile\, Pleszowie\, Zesławicach\, Bieńczycach. W drugiej połowie lat siedemdziesiątych\, w związku ze zmniejszeniem tempa realizowanych w dzielnicy inwestycji\, zmienił się charakter prac badawczych Oddziału. Główny nacisk położono na prace inwentaryzacyjne i publikowanie wyników badań. Równolegle do działalności naukowo-badawczej\, prowadzono akcje upowszechnieniowe. \nIstotnym punktem działalności jest udostępnianie zbiorów publiczności. W renesansowej rezydencji (tzw. lamusie) prezentowana jest wystawa stała\, poświęcona garncarstwu prahistorycznemu. Corocznie przygotowywane są ekspozycje czasowe. Integralną częścią działalności Muzeum i Oddziału jest edukacja muzealna. Prowadzone w Branicach warsztaty cieszą się dużym zainteresowaniem. Od dwudziestu lat Oddział organizuje piknik archeologiczny. Placówka oferuje także program dla osób z niepełnosprawnościami. O przedsięwzięciach placówki są informowane na bieżąco media\, w tym lokalna prasa. \nZ okazji jubileuszu Oddział przygotował multimedialną wystawę „70 lat – archeolodzy dla Nowej Huty”\, czynną od 18 września\, w zespole dworsko-parkowym w Krakowie Branicach\, przy ul. Sasanek 2A. Na planszach i monitorach można będzie zapoznać się z historią placówki\, najstarszym dziejami terenów nowohuckich\, oraz obejrzeć mnóstwo fotografii z ostatniego siedemdziesięciolecia Oddziału. Eksponowane będą też\, niewidoczne na co dzień\,  zabytki z naszych magazynów. Zapraszamy! \nJanusz Bober \n 
URL:https://ma.krakow.pl/event/70-lat-archeolodzy-dla-nowej-huty/
LOCATION:Oddział w Nowej Hucie-Branicach\, ul. Sasanek 2A\, Kraków\, małopolskie\, 31-985\, Polska
CATEGORIES:Wszystkie wydarzenia
ATTACH;FMTTYPE=image/jpeg:https://ma.krakow.pl/wp-content/uploads/2020/09/70_plakat-wystawa1-scaled.jpg
END:VEVENT
END:VCALENDAR