BEGIN:VCALENDAR
VERSION:2.0
PRODID:-//Muzeum Archeologiczne w Krakowie - ECPv5.10.0//NONSGML v1.0//EN
CALSCALE:GREGORIAN
METHOD:PUBLISH
X-WR-CALNAME:Muzeum Archeologiczne w Krakowie
X-ORIGINAL-URL:https://ma.krakow.pl
X-WR-CALDESC:Wydarzenia dla Muzeum Archeologiczne w Krakowie
BEGIN:VTIMEZONE
TZID:Europe/Warsaw
BEGIN:DAYLIGHT
TZOFFSETFROM:+0100
TZOFFSETTO:+0200
TZNAME:CEST
DTSTART:20190331T010000
END:DAYLIGHT
BEGIN:STANDARD
TZOFFSETFROM:+0200
TZOFFSETTO:+0100
TZNAME:CET
DTSTART:20191027T010000
END:STANDARD
END:VTIMEZONE
BEGIN:VEVENT
DTSTART;TZID=Europe/Warsaw:20190526T110000
DTEND;TZID=Europe/Warsaw:20190526T170000
DTSTAMP:20260424T170917
CREATED:20190523T110957Z
LAST-MODIFIED:20190523T111301Z
UID:5922-1558868400-1558890000@ma.krakow.pl
SUMMARY:16 Małopolski Piknik Archeologiczny „W cieniu piramid”
DESCRIPTION:Małopolski Piknik Archeologiczny „W cieniu piramid” \n26 maja 2019 (niedziela)\, godz. 11:00-17:00 \nOgród Muzeum Archeologicznego w Krakowie \nul. Poselska 3 \nW niedzielę\, 26 maja 2019 roku\, w ogrodach Muzeum Archeologicznego w Krakowie przy  ul. Poselskiej 3\,  odbędzie się 16. Małopolski Piknik Archeologiczny. Impreza rozpocznie się o godzinie 11.00 i trwać będzie do 17.00. Tematem tegorocznego pikniku będą kultura i zwyczaje panujące w starożytnym Egipcie\, bowiem Muzeum posiada bogaty zbiór zabytków egipskich\, pochodzący zarówno z wykopalisk jak i darowizn. W trakcie plenerowej zabawy widzowie będą mogli obejrzeć pokazy niektórych\, znanych od starożytności\, a obecnie zanikających rzemiosł. Garncarz\, powroźnik\, kamieniarz pokażą tajniki swoich zawodów\, a chętni będą mogli spróbować wylepić gliniane naczynia\, wykonać powrozy lub postukać dłutem kamieniarskim. \nDla najmłodszych adeptów prahistorii\, swoje progi otworzy Akademia Młodego Archeologa. W trakcie zajęć będzie można wziąć udział w zaaranżowanych wykopaliskach\, poznać pismo hieroglificzne\, spróbować wylepić cegłę mułową. Szkoła młodych archeologów przygotowała też atrakcje dla miłośników malarstwa\, którzy będą ozdabiać ściany egipskiego grobowca i malować figurki. Miłośnicy łamigłówek zmierzą się z tematycznymi puzzlami. Oczywiście nie zabraknie innych atrakcji i konkursów okraszonych nagrodami dla naszych milusińskich. Dla nieco starszych uczestników przygotowana została wystawa tkanin egipskich. Amatorzy pogłębienia wiedzy o Egipcie będą mogli wysłuchać wykładów dr. Krzysztofa Babraja „Wykopaliska w Marei/Philoxenite w latach 2000-2018 ze szczególnym uwzględnianiem prac w Bazylice i nowo odkrytym kościele w 2018 r.” oraz prezentację mgr Anny Drzymuchowskiej o ceramice z Marei. \nW trakcie pikniku można będzie zakupić wyroby rzemiosła oraz pamiątki z Muzeum. Miłośnicy ochłody lodowej\, też zaspokoją swoje pragnienie. Z atrakcji imprezy można będzie skorzystać przy nastrojowej egipskiej muzyce w tle. \nMuzeum Archeologiczne zaprasza do swoich ogrodów\, położonych w urokliwym zakątku Krakowa. \nDojazd:\n\nkomunikacją miejską w rejon ul. Grodzkiej lub Straszewskiego a następnie spacerkiem do wejścia do ogrodów muzealnych (ul. Poselska 3)
URL:https://ma.krakow.pl/event/16-malopolski-piknik-archeologiczny-w-cieniu-piramid/
CATEGORIES:Pikniki
ATTACH;FMTTYPE=image/jpeg:https://ma.krakow.pl/wp-content/uploads/aktualnosci/16piknik/baner-reklamowy-piknik-2019-940x300.jpg
END:VEVENT
END:VCALENDAR