BEGIN:VCALENDAR
VERSION:2.0
PRODID:-//Muzeum Archeologiczne w Krakowie - ECPv5.10.0//NONSGML v1.0//EN
CALSCALE:GREGORIAN
METHOD:PUBLISH
X-WR-CALNAME:Muzeum Archeologiczne w Krakowie
X-ORIGINAL-URL:https://ma.krakow.pl
X-WR-CALDESC:Events for Muzeum Archeologiczne w Krakowie
BEGIN:VTIMEZONE
TZID:Europe/Warsaw
BEGIN:DAYLIGHT
TZOFFSETFROM:+0100
TZOFFSETTO:+0200
TZNAME:CEST
DTSTART:20190331T010000
END:DAYLIGHT
BEGIN:STANDARD
TZOFFSETFROM:+0200
TZOFFSETTO:+0100
TZNAME:CET
DTSTART:20191027T010000
END:STANDARD
END:VTIMEZONE
BEGIN:VEVENT
DTSTART;TZID=Europe/Warsaw:20190808T130000
DTEND;TZID=Europe/Warsaw:20190808T130000
DTSTAMP:20260424T135610
CREATED:20190712T082730Z
LAST-MODIFIED:20190712T083121Z
UID:6590-1565269200-1565269200@ma.krakow.pl
SUMMARY:Barbarian Tsunami. The Migration Period in Oder and Vistula River Basin
DESCRIPTION:
URL:https://ma.krakow.pl/en/event/barbarzynskie-tsunami-okres-wedrowek-ludow-w-dorzeczu-odry-i-wisly-2/
LOCATION:Muzeum Archeologiczne w Krakowie\, Senacka 3\, Kraków\, małopolskie\, 31-002;\, Polska
ATTACH;FMTTYPE=image/jpeg:https://ma.krakow.pl/wp-content/uploads/2019/07/plakat_barbarzynskie_tsunami.jpg
END:VEVENT
END:VCALENDAR